Workbook

Sheet Осн. фін. пок.
E1: Додаток 3
E2: до Порядку складання, затвердження
E3: та контролю виконання фінансового плану
E4: суб'єкта господарювання державного сектору економіки
E5: (пункт 11)
G7: Рік | H7: Коди
A8: Підприємство | B8: ПрАТ "Українське Дунайське Пароплавство" | G8: за ЄДРПОУ | H8: 1125821
A9: Організаційно-правова форма | B9: Державне підприємство | G9: за КОПФГ | H9: 231
A10: Територія | B10: Одеська | G10: за КОАТУУ | H10: 5110600000
A11: Орган державного управління | B11: МІНІСТЕРСТВО ІНФРАСТРУКТУРИ УКРАЇНИ | G11: за СПОДУ | H11: 7214
A12: Галузь | B12: Морський транспорт | G12: за ЗКГНГ | H12: 51210
A13: Вид економічної діяльності | B13: Діяльність морського вантажного транспорту | G13: за КВЕД | H13: 50.20
A14: Одиниця виміру, тис. гривень | E14: Стандарти звітності П(с)БОУ | G14: V
A15: Форма власності | B15: ДЕРЖАВНА | E15: Стандарти звітності МСФЗ
A16: Середньооблікова кількість штатних працівників | B16: 1576
A17: Місцезнаходження | B17: вул. Пароходна, 28, м. Ізмаїл, Одеська обл., 68600, Україна
A18: Телефон | B18: (04841) 67-177
A19: Прізвище та ініціали керівника | B19: Д.С. Чалий
A21: ЗВІТ
A22: ПРО ВИКОНАННЯ ФІНАНСОВОГО ПЛАНУ
A23: ПрАТ "УДП"
A24: за Рік 2017
A25: Основні фінансові показники
A27: Найменування показника | B27: Код рядка | C27: Факт наростаючим підсумком з початку року | E27: Звітний період (2017 р.)
C28: минулий рік | D28: поточний рік | E28: план | F28: факт | G28: відхилення, +/– | H28: виконання, %
A29: 1 | B29: 2 | C29: 3 | D29: 4 | E29: 5 | F29: 6 | G29: 7 | H29: 8
A30: І. Формування фінансових результатів
A31: Чистий дохід від реалізації продукції (товарів, робіт, послуг) | B31: 1000 | C31: ='I. Формування фін. рез.'!C7 -> 642964 | D31: ='I. Формування фін. рез.'!D7 -> 781040 | E31: ='I. Формування фін. рез.'!E7 -> 676570 | F31: ='I. Формування фін. рез.'!F7 -> 781040 | G31: =F31-E31 -> 104470 | H31: =F31/E31*100 -> 115.44112
A32: Собівартість реалізованої продукції (товарів, робіт, послуг) | B32: 1010 | C32: ='I. Формування фін. рез.'!C8 -> -557660 | D32: ='I. Формування фін. рез.'!D8 -> -745030 | E32: ='I. Формування фін. рез.'!E8 -> -582350 | F32: ='I. Формування фін. рез.'!F8 -> -745030 | G32: =F32-E32 -> -162680 | H32: =F32/E32*100 -> 127.93509
A33: Валовий прибуток/збиток | B33: 1020 | C33: =SUM(C31:C32) -> 85304 | D33: =SUM(D31:D32) -> 36010 | E33: =SUM(E31:E32) -> 94220 | F33: =SUM(F31:F32) -> 36010 | G33: =F33-E33 -> -58210 | H33: =F33/E33*100 -> 38.219062
A34: Адміністративні витрати, у тому числі: | B34: 1030 | C34: ='I. Формування фін. рез.'!C21 -> -64322 | D34: ='I. Формування фін. рез.'!D21 -> -59693 | E34: ='I. Формування фін. рез.'!E21 -> -68405 | F34: ='I. Формування фін. рез.'!F21 -> -59693 | G34: =F34-E34 -> 8712 | H34: =F34/E34*100 -> 87.264089
A35: витрати, пов'язані з використанням власних службових автомобілів | B35: 1031 | C35: ='I. Формування фін. рез.'!C22 -> -1817.2 | D35: ='I. Формування фін. рез.'!D22 -> -1480.6 | E35: ='I. Формування фін. рез.'!E22 -> -1420 | F35: ='I. Формування фін. рез.'!F22 -> -1480.6 | G35: =F35-E35 -> -60.6 | H35: =F35/E35*100 -> 104.26761
A36: витрати на оренду службових автомобілів | B36: 1032 | C36: ='I. Формування фін. рез.'!C23 -> 0,0 | D36: ='I. Формування фін. рез.'!D23 -> 0,0 | E36: ='I. Формування фін. рез.'!E23 -> 0,0 | F36: ='I. Формування фін. рез.'!F23 -> 0,0 | G36: =F36-E36 -> 0 | H36: 0
A37: витрати на консалтингові послуги | B37: 1033 | C37: ='I. Формування фін. рез.'!C24 -> 0,0 | D37: ='I. Формування фін. рез.'!D24 -> 0,0 | E37: ='I. Формування фін. рез.'!E24 -> 0,0 | F37: ='I. Формування фін. рез.'!F24 -> 0,0 | G37: =F37-E37 -> 0 | H37: 0
A38: витрати на страхові послуги | B38: 1034 | C38: ='I. Формування фін. рез.'!C25 -> 0 | D38: ='I. Формування фін. рез.'!D25 -> 0,0 | E38: ='I. Формування фін. рез.'!E25 -> -20 | F38: ='I. Формування фін. рез.'!F25 -> 0,0 | G38: =F38-E38 -> 20 | H38: =F38/E38*100 -> 0
A39: витрати на аудиторські послуги | B39: 1035 | C39: ='I. Формування фін. рез.'!C26 -> 0 | D39: ='I. Формування фін. рез.'!D26 -> -1656.3 | E39: ='I. Формування фін. рез.'!E26 -> -350 | F39: ='I. Формування фін. рез.'!F26 -> -1656.3 | G39: =F39-E39 -> -1306.3 | H39: -
A40: Витрати на збут | B40: 1060 | C40: ='I. Формування фін. рез.'!C49 -> -11726 | D40: ='I. Формування фін. рез.'!D49 -> -10964 | E40: ='I. Формування фін. рез.'!E49 -> -8660 | F40: ='I. Формування фін. рез.'!F49 -> -10964 | G40: =F40-E40 -> -2304 | H40: =F40/E40*100 -> 126.60508
A41: Інші операційні доходи, у тому числі: | B41: 1070 | C41: ='I. Формування фін. рез.'!C58 -> 54910 | D41: ='I. Формування фін. рез.'!D58 -> 49382 | E41: ='I. Формування фін. рез.'!E58 -> 9515 | F41: ='I. Формування фін. рез.'!F58 -> 49382 | G41: =F41-E41 -> 39867 | H41: =F41/E41*100 -> 518.99107
A42: курсові різниці | B42: 1071 | C42: ='I. Формування фін. рез.'!C59 -> 28085.8 | D42: ='I. Формування фін. рез.'!D59 -> 26981.6 | E42: ='I. Формування фін. рез.'!E59 -> 0,0 | F42: ='I. Формування фін. рез.'!F59 -> 26981.6 | G42: =F42-E42 -> 26981.6 | H42: 0
A43: нетипові операційні доходи | B43: 1072 | C43: ='I. Формування фін. рез.'!C60 -> 0,0 | D43: ='I. Формування фін. рез.'!D60 -> 0,0 | E43: ='I. Формування фін. рез.'!E60 -> 0,0 | F43: ='I. Формування фін. рез.'!F60 -> 0,0 | G43: =F43-E43 -> 0 | H43: 0
...

Sheet I. Формування фін. рез.
A1: I. Формування фінансових результатів
A3: Найменування показника | B3: Код рядка | C3: Факт наростаючим підсумком з початку року | E3: ='Осн. фін. пок.'!E27:H27 -> Звітний період (2017 р.) | I3: Пояснення та обґрунтування до запланованого рівня доходів/витрат
C4: минулий рік | D4: поточний рік | E4: план | F4: факт | G4: відхилення, +/– | H4: виконання, %
A5: 1 | B5: 2 | C5: 3 | D5: 4 | E5: 5 | F5: 6 | G5: 7 | H5: 8 | I5: 9
A6: Доходи і витрати (деталізація)
A7: Чистий дохід від реалізації продукції (товарів, робіт, послуг) (розшифрувати) | B7: 1000 | C7: 642964 | D7: 781040 | E7: 676570 | F7: =D7 -> 781040 | G7: =F7-E7 -> 104470 | H7: =F7/E7*100 -> 115.44112
A8: Собівартість реалізованої продукції (товарів, робіт, послуг) | B8: 1010 | C8: =SUM(C9:C16) -> -557660 | D8: =SUM(D9:D16) -> -745030 | E8: =SUM(E9:E16) -> -582350 | F8: =D8 -> -745030 | G8: =F8-E8 -> -162680 | H8: =F8/E8*100 -> 127.93509
A9: Витрати на сировину та основні матеріали | B9: 1011 | C9: -17379.5 | D9: -23178.2 | E9: -20110 | F9: =D9 -> -23178.2 | G9: =F9-E9 -> -3068.2 | H9: =F9/E9*100 -> 115.25709
A10: Витрати на паливо | B10: 1012 | C10: -26169.8 | D10: -37172.3 | E10: -27675 | F10: =D10 -> -37172.3 | G10: =F10-E10 -> -9497.3 | H10: =F10/E10*100 -> 134.31725
A11: Витрати на електроенергію | B11: 1013 | C11: -7490.6 | D11: -9589.7 | E11: -6655 | F11: =D11 -> -9589.7 | G11: =F11-E11 -> -2934.7 | H11: =F11/E11*100 -> 144.09767
A12: Витрати на оплату праці | B12: 1014 | C12: -75859.2 | D12: -83690.9 | E12: -69405 | F12: =D12 -> -83690.9 | G12: =F12-E12 -> -14285.9 | H12: =F12/E12*100 -> 120.58339
A13: Відрахування на соціальні заходи | B13: 1015 | C13: -17060.7 | D13: -19171.8 | E13: -15490 | F13: =D13 -> -19171.8 | G13: =F13-E13 -> -3681.8 | H13: =F13/E13*100 -> 123.76888
A14: Витрати, що здійснюються для підтримання об’єкта в робочому стані (проведення ремонту, технічного огляду, нагляду, обслуговування тощо) | B14: 1016 | C14: -76106.3 | D14: -112061.4 | E14: -73900 | F14: =D14 -> -112061.4 | G14: =F14-E14 -> -38161.4 | H14: =F14/E14*100 -> 151.63924
A15: Амортизація основних засобів і нематеріальних активів | B15: 1017 | C15: -11683.8 | D15: -14230.7 | E15: -11790 | F15: =D15 -> -14230.7 | G15: =F15-E15 -> -2440.7 | H15: =F15/E15*100 -> 120.70144
A16: інші витрати (розшифрувати) | B16: 1018 | C16: =SUM(C17:C19) -> -325910.1 | D16: =SUM(D17:D19) -> -445935 | E16: =SUM(E17:E19) -> -357325 | F16: =D16 -> -445935 | G16: =F16-E16 -> -88610 | H16: =F16/E16*100 -> 124.79815
A17: виплата інвалюти замість добових | B17: 1018/1 | C17: -22247 | D17: -32894.8 | E17: -20670 | F17: =D17 -> -32894.8 | G17: =F17-E17 -> -12224.8 | H17: =F17/E17*100 -> 159.14272
A18: навігаційні, канальні, стивідорні, лінійне буксирування | B18: 1018/2 | C18: -244382.3 | D18: -331182.9 | E18: -303375 | F18: =D18 -> -331182.9 | G18: =F18-E18 -> -27807.9 | H18: =F18/E18*100 -> 109.16618
A19: інші | B19: 1018/3 | C19: -59280.8 | D19: -81857.3 | E19: =-336655+303375 -> -33280 | F19: =D19 -> -81857.3 | G19: =F19-E19 -> -48577.3 | H19: =F19/E19*100 -> 245.96544 | I19: Собівартість реалізованих товарів (металобрухт від розділу барж по дозволам 2016 р.) - 6 241,2; туристичне обслуговування - 17 770,8; харчування пасажирів, утримання ресторанів, барів - 25 370,8; спецфонд-2 816,5; раціон кол. харчування - 8 509,2; страхування - 7 271,3; мастила - 1 957,0; послуги зі сторони - 1 897,6; охорона праці-470,2; відрядження - 719,3; утримання засобів зв҆язку - 251,9; контрагентські - 4 080,3; списання матеріалів при наданні послуг пасажирам- 195,1; медичні - 398,1; податки -1 447,5; санінструктаж, ветпослуги - 185,0; інші - 2 275,5
A20: Валовий прибуток (збиток) | B20: 1020 | C20: =SUM(C7,C8) -> 85304 | D20: =SUM(D7,D8) -> 36010 | E20: =SUM(E7,E8) -> 94220 | F20: =D20 -> 36010 | G20: =F20-E20 -> -58210 | H20: =F20/E20*100 -> 38.219062
A21: Адміністративні витрати, у тому числі: | B21: 1030 | C21: =SUM(C22:C41,C43) -> -64322 | D21: =SUM(D22:D41,D43) -> -59693 | E21: =SUM(E22:E41,E43) -> -68405 | F21: =D21 -> -59693 | G21: =F21-E21 -> 8712 | H21: =F21/E21*100 -> 87.264089
A22: витрати, пов'язані з використанням власних службових автомобілів | B22: 1031 | C22: -1817.2 | D22: -1480.6 | E22: -1420 | F22: =D22 -> -1480.6 | G22: =F22-E22 -> -60.6 | H22: =F22/E22*100 -> 104.26761
A23: витрати на оренду службових автомобілів | B23: 1032 | C23: 0,0 | D23: 0,0 | E23: 0,0 | F23: =D23 -> 0,0 | G23: =F23-E23 -> 0 | H23: 0
A24: витрати на консалтингові послуги | B24: 1033 | C24: 0,0 | D24: 0,0 | E24: 0,0 | F24: =D24 -> 0,0 | G24: =F24-E24 -> 0 | H24: 0
A25: витрати на страхові послуги | B25: 1034 | C25: 0 | D25: 0,0 | E25: -20 | F25: =D25 -> 0,0 | G25: =F25-E25 -> 20 | H25: =F25/E25*100 -> 0
A26: витрати на аудиторські послуги | B26: 1035 | C26: 0 | D26: -1656.3 | E26: -350 | F26: =D26 -> -1656.3 | G26: =F26-E26 -> -1306.3 | H26: -
A27: витрати на службові відрядження | B27: 1036 | C27: -1538.2 | D27: -2248.2 | E27: -1400 | F27: =D27 -> -2248.2 | G27: =F27-E27 -> -848.2 | H27: =F27/E27*100 -> 160.58571
A28: витрати на зв’язок | B28: 1037 | C28: -303.1 | D28: -284.1 | E28: -260 | F28: =D28 -> -284.1 | G28: =F28-E28 -> -24.1 | H28: =F28/E28*100 -> 109.26923
A29: витрати на оплату праці | B29: 1038 | C29: -22358.9 | D29: -24397.9 | E29: -23040 | F29: =D29 -> -24397.9 | G29: =F29-E29 -> -1357.9 | H29: =F29/E29*100 -> 105.89366
A30: відрахування на соціальні заходи | B30: 1039 | C30: -4705.9 | D30: -5223.7 | E30: -5070 | F30: =D30 -> -5223.7 | G30: =F30-E30 -> -153.7 | H30: =F30/E30*100 -> 103.03156
A31: амортизація основних засобів і нематеріальних активів загальногосподарського призначення | B31: 1040 | C31: -618.5 | D31: -631.1 | E31: -515 | F31: =D31 -> -631.1 | G31: =F31-E31 -> -116.1 | H31: =F31/E31*100 -> 122.54369
A32: витрати на операційну оренду основних засобів та роялті, що мають загальногосподарське призначення | B32: 1041 | C32: 0,0 | D32: 0,0 | E32: 0,0 | F32: =D32 -> 0,0 | G32: =F32-E32 -> 0 | H32: 0
A33: витрати на страхування майна загальногосподарського призначення | B33: 1042 | C33: 0,0 | D33: 0,0 | E33: 0,0 | F33: =D33 -> 0,0 | G33: =F33-E33 -> 0 | H33: 0
A34: витрати на страхування загальногосподарського персоналу | B34: 1043 | C34: 0,0 | D34: 0,0 | E34: 0,0 | F34: =D34 -> 0,0 | G34: =F34-E34 -> 0 | H34: 0
A35: організаційно-технічні послуги | B35: 1044 | C35: 0,0 | D35: 0,0 | E35: 0,0 | F35: =D35 -> 0,0 | G35: =F35-E35 -> 0 | H35: 0
A36: консультаційні та інформаційні послуги | B36: 1045 | C36: -240 | D36: -274.9 | E36: -100 | F36: =D36 -> -274.9 | G36: =F36-E36 -> -174.9 | H36: =F36/E36*100 -> 274.9
A37: юридичні послуги | B37: 1046 | C37: -2436 | D37: -2396.5 | E37: -920 | F37: =D37 -> -2396.5 | G37: =F37-E37 -> -1476.5 | H37: =F37/E37*100 -> 260.48913
A38: послуги з оцінки майна | B38: 1047 | C38: -874.8 | D38: -24 | E38: 0,0 | F38: =D38 -> -24 | G38: =F38-E38 -> -24 | H38: 0
A39: витрати на охорону праці загальногосподарського персоналу | B39: 1048 | C39: -2 | D39: 0 | E39: 0,0 | F39: =D39 -> 0 | G39: =F39-E39 -> 0 | H39: 0
A40: витрати на підвищення кваліфікації та перепідготовку кадрів | B40: 1049 | C40: -48.5 | D40: -81.5 | E40: -95 | F40: =D40 -> -81.5 | G40: =F40-E40 -> 13.5 | H40: =F40/E40*100 -> 85.789474
A41: витрати на утримання основних фондів, інших необоротних активів загальногосподарського використання, у тому числі: | B41: 1050 | C41: -2766.7 | D41: -3149.8 | E41: -2775 | F41: =D41 -> -3149.8 | G41: =F41-E41 -> -374.8 | H41: =F41/E41*100 -> 113.50631 | I41: Електроенергія - 1 456,6; утримання газової котельні- 468,4; ремонт- 645,6; інші- 579,2
...

Sheet ІІ. Розр. з бюджетом
A1: IІ. Розрахунки з бюджетом
A3: Найменування показника | B3: Код рядка | C3: Факт наростаючим підсумком з початку року | E3: ='Осн. фін. пок.'!E27:H27 -> Звітний період (2017 р.) | J3: 6 мес
C4: минулий рік | D4: поточний рік | E4: план | F4: факт | G4: відхилення, +/– | H4: виконання, %
A5: 1 | B5: 2 | C5: 3 | D5: 4 | E5: 5 | F5: 6 | G5: 7 | H5: 8
A6: Розподіл чистого прибутку
A7: Залишок нерозподіленого прибутку (непокритого збитку) на початок звітного періоду | B7: 2000 | C7: -746633 | D7: -720534 | E7: -741973 | F7: =D7 -> -720534 | G7: =F7-E7 -> 21439 | H7: =F7/E7*100 -> 97.110542 | J7: -720534
A8: Нараховані до сплати відрахування частини чистого прибутку, усього, у тому числі: | B8: 2010 | C8: =C9+C10 -> 0 | D8: =D9+D10 -> -15032.5 | E8: =E9+E10 -> -22395 | F8: =D8 -> -15032.5 | G8: =F8-E8 -> 7362.5 | H8: 0 | J8: 0
A9: державними унітарними підприємствами та їх об'єднаннями до державного бюджету | B9: 2011 | C9: 0,0 | D9: 0,0 | E9: 0,0 | F9: =D9 -> 0,0 | G9: =F9-E9 -> 0 | H9: 0 | J9: 0,0
A10: господарськими товариствами, у статутному капіталі яких більше 50 відсотків акцій (часток, паїв) належать державі, на виплату дивідендів | B10: 2012 | C10: 0,0 | D10: -15032.5 | E10: -22395 | F10: =D10 -> -15032.5 | G10: =F10-E10 -> 7362.5 | H10: 0 | J10: 0,0
A11: у тому числі на державну частку | B11: 2012/1 | C11: 0,0 | D11: 0,0 | E11: -22395 | F11: =D11 -> 0,0 | G11: =F11-E11 -> 22395 | H11: 0 | J11: 0,0
A12: Перенесено з додаткового капіталу | B12: 2020 | C12: 0,0 | D12: 0,0 | E12: 0,0 | F12: =D12 -> 0,0 | G12: =F12-E12 -> 0 | H12: 0 | J12: 0,0
A13: Розвиток виробництва | B13: 2030 | C13: 0,0 | D13: 0,0 | E13: -1000 | F13: =D13 -> 0,0 | G13: =F13-E13 -> 1000 | H13: 0 | J13: 0,0
A14: у тому числі за основними видами діяльності за КВЕД | B14: 2031 | C14: 0,0 | D14: 0,0 | E14: -1000 | F14: =D14 -> 0,0 | G14: =F14-E14 -> 1000 | H14: 0 | J14: 0,0
A15: Резервний фонд | B15: 2040 | C15: 0,0 | D15: 0,0 | E15: 0,0 | F15: =D15 -> 0,0 | G15: =F15-E15 -> 0 | H15: 0 | J15: 0,0
A16: Інші фонди (розшифрувати) | B16: 2050 | C16: 0,0 | D16: 0,0 | E16: 0,0 | F16: =D16 -> 0,0 | G16: =F16-E16 -> 0 | H16: 0 | J16: 0,0
A17: Інші цілі (розшифрувати) | B17: 2060 | C17: =SUM(C18:C19) -> -3966 | D17: =SUM(D18:D19) -> -497.5 | E17: =SUM(E18:E19) -> 0 | F17: =D17 -> -497.5 | G17: =F17-E17 -> -497.5 | H17: 0 | J17: -9475
A18: доходи/витрати минулих періодів | B18: 2060/1 | C18: 0,0 | D18: 0,0 | E18: 0,0 | F18: =D18 -> 0,0 | G18: =F18-E18 -> 0 | H18: 0 | J18: 0,0
A19: інші витрати | B19: 2060/2 | C19: -3966 | D19: =734067.5-734565 -> -497.5 | E19: 0,0 | F19: =D19 -> -497.5 | G19: =F19-E19 -> -497.5 | H19: 0 | J19: -9475
A20: Залишок нерозподіленого прибутку (непокритого збитку) на кінець звітного періоду | B20: 2070 | C20: =SUM(C7,C8,C12,C13,C15,C16,C17)+'I. Формування фін. рез.'!C101 -> -720534 | D20: =SUM(D7,D8,D12,D13,D15,D16,D17)+'I. Формування фін. рез.'!D101 -> -734565 | E20: =SUM(E7,E8,E12,E13,E15,E16,E17)+'I. Формування фін. рез.'!E101 -> -741678 | F20: =D20 -> -734565 | G20: =F20-E20 -> 7113 | H20: =F20/E20*100 -> 99.040958 | J20: -742825
A21: Сплата податків, зборів та інших обов'язкових платежів
A22: Сплата податків та зборів до Державного бюджету України (податкові платежі), усього, у тому числі: | B22: 2110 | C22: =SUM(C23:C31) -> 5355.4 | D22: =SUM(D23:D31) -> 1905.1 | E22: =SUM(E23:E31) -> 2795 | F22: =D22 -> 1905.1 | G22: =F22-E22 -> -889.9 | H22: =F22/E22*100 -> 68.161002 | J22: -1157.3
A23: податок на прибуток підприємств | B23: 2111 | C23: 3866.1 | D23: 2716.2 | E23: 4030 | F23: =D23 -> 2716.2 | G23: =F23-E23 -> -1313.8 | H23: =F23/E23*100 -> 67.399504 | J23: 2705.9
A24: ПДВ, що підлягає сплаті до бюджету за підсумками звітного періоду | B24: 2112 | C24: 0 | D24: 0 | E24: 0 | F24: =D24 -> 0 | G24: =F24-E24 -> 0 | H24: - | J24: 0
A25: ПДВ, що підлягає відшкодуванню з бюджету за підсумками звітного періоду | B25: 2113 | C25: -5446.6 | D25: -8383.2 | E25: -7000 | F25: =D25 -> -8383.2 | G25: =F25-E25 -> -1383.2 | H25: =F25/E25*100 -> 119.76 | J25: -6978.7
A26: акцизний податок | B26: 2114 | C26: 112.6 | D26: 203.7 | E26: 0 | F26: =D26 -> 203.7 | G26: =F26-E26 -> 203.7 | H26: - | J26: 43.9
A27: відрахування частини чистого прибутку державними унітарними підприємствами та їх об'єднаннями | B27: 2115 | C27: 0,0 | D27: 0,0 | E27: 0,0 | F27: =D27 -> 0,0 | G27: =F27-E27 -> 0 | H27: - | J27: 0,0
A28: рентна плата за транспортування | B28: 2116 | C28: 0,0 | D28: 0,0 | E28: 0,0 | F28: =D28 -> 0,0 | G28: =F28-E28 -> 0 | H28: - | J28: 0,0
A29: рентна плата за користування надрами | B29: 2117 | C29: 0,0 | D29: 0,0 | E29: 0,0 | F29: =D29 -> 0,0 | G29: =F29-E29 -> 0 | H29: - | J29: 0,0
A30: податок на доходи фізичних осіб | B30: 2118 | C30: 5080 | D30: =22107.4*0.25+0.05 -> 5526.9 | E30: 4325 | F30: =D30 -> 5526.9 | G30: =F30-E30 -> 1201.9 | H30: =F30/E30*100 -> 127.7896 | J30: 2304.2
A31: інші податки та збори (розшифрувати) | B31: 2119 | C31: =SUM(C32:C32) -> 1743.3 | D31: =SUM(D32:D32) -> 1841.5 | E31: =SUM(E32:E32) -> 1440 | F31: =D31 -> 1841.5 | G31: =F31-E31 -> 401.5 | H31: =F31/E31*100 -> 127.88194 | J31: 767.4
A32: військовий збір | B32: 2119/1 | C32: 1743.3 | D32: 1841.5 | E32: 1440 | F32: =D32 -> 1841.5 | G32: =F32-E32 -> 401.5 | H32: =F32/E32*100 -> 127.88194 | J32: 767.4
A33: Сплата податків та зборів до місцевих бюджетів (податкові платежі), усього, у тому числі: | B33: 2120 | C33: =SUM(C34:C37) -> 23898.1 | D33: =SUM(D34:D37) -> 27192.8 | E33: =SUM(E34:E37) -> 21535 | F33: =D33 -> 27192.8 | G33: =F33-E33 -> 5657.8 | H33: =F33/E33*100 -> 126.27258 | J33: 12149.6
A34: податок на доходи фізичних осіб | B34: 2121 | C34: 15240.3 | D34: =22107.4-5526.9 -> 16580.5 | E34: 12970 | F34: =D34 -> 16580.5 | G34: =F34-E34 -> 3610.5 | H34: =F34/E34*100 -> 127.83732 | J34: 6912.7
A35: земельний податок | B35: 2122 | C35: 7271.4 | D35: 8071.7 | E35: 6800 | F35: =D35 -> 8071.7 | G35: =F35-E35 -> 1271.7 | H35: =F35/E35*100 -> 118.70147 | J35: 4011.4
A36: орендна плата | B36: 2123 | C36: 0,0 | D36: 0,0 | E36: 0,0 | F36: =D36 -> 0,0 | G36: =F36-E36 -> 0 | H36: 0 | J36: 0,0
A37: інші податки та збори (розшифрувати) | B37: 2124 | C37: =SUM(C38:C39) -> 1386.4 | D37: =SUM(D38:D39) -> 2540.6 | E37: =SUM(E38:E39) -> 1765 | F37: =D37 -> 2540.6 | G37: =F37-E37 -> 775.6 | H37: =F37/E37*100 -> 143.94334 | J37: 1225.5
A38: податок на нерухоме майно, відмінне від земельної ділянки | B38: 2124/1 | C38: 910.7 | D38: 1976.7 | E38: 540 | F38: =D38 -> 1976.7 | G38: =F38-E38 -> 1436.7 | H38: =F38/E38*100 -> 366.05556 | J38: 860.9
A39: інші | B39: 2124/2 | C39: 475.7 | D39: =191.6+14.2+44.7+300.6+12.8 -> 563.9 | E39: 1225 | F39: =D39 -> 563.9 | G39: =F39-E39 -> -661.1 | H39: =F39/E39*100 -> 46.032653 | J39: 364.6
A40: Інші податки, збори та платежі на користь держави, усього, у тому числі: | B40: 2130 | C40: =SUM(C41:C44) -> 45894.8 | D40: =SUM(D41:D44) -> 43640.3 | E40: =SUM(E41:E44) -> 43535 | F40: =D40 -> 43640.3 | G40: =F40-E40 -> 105.3 | H40: =F40/E40*100 -> 100.24187 | J40: 27081.4
A41: відрахування частини чистого прибутку господарськими товариствами, у статутному капіталі яких більше 50 відсотків акцій (часток, паїв) належать державі, на виплату дивідендів на державну частку | B41: 2131 | C41: 17201.3 | D41: 15032.5 | E41: 22395 | F41: =D41 -> 15032.5 | G41: =F41-E41 -> -7362.5 | H41: =F41/E41*100 -> 67.124358 | J41: 15042.8
...

Sheet ІІІ. Рух грош. коштів
A1: ІІІ. Рух грошових коштів (за прямим методом)
A3: Найменування показника | B3: Код рядка | C3: Факт наростаючим підсумком з початку року | E3: ='Осн. фін. пок.'!E27:H27 -> Звітний період (2017 р.) | N3: 6 мес | O3: 2кв | P3: 3кв
C4: минулий рік | D4: поточний рік | E4: план | F4: факт | G4: відхилення, +/– | H4: виконання, %
A5: 1 | B5: 2 | C5: 3 | D5: 4 | E5: 5 | F5: 6 | G5: 7 | H5: 8
A6: І. Рух коштів у результаті операційної діяльності
A7: Надходження грошових коштів від операційної діяльності | B7: 3000 | C7: =SUM(C8:C15,C19)-C10 -> 672505 | D7: =SUM(D8:D15,D19)-D10 -> 802465 | E7: =SUM(E8:E15,E19)-E10 -> 730555 | F7: =D7 -> 802465 | G7: =F7-E7 -> 71910 | H7: =F7/E7*100 -> 109.8432 | I7: =C7+C52+C80 -> 679959 | J7: =D7+D52+D80 -> 822882 | K7: =681259-1300 -> 679959 | L7: =K7-J7 -> -142923 | N7: 338918.8
A8: Виручка від реалізації продукції (товарів, робіт, послуг) | B8: 3010 | C8: 467065 | D8: 525402 | E8: 676570 | F8: =D8 -> 525402 | G8: =F8-E8 -> -151168 | H8: =F8/E8*100 -> 77.65671 | I8: =72261.3+74758.5+152.6+72928.2+2767+3588+152.6+2979.9 -> 229588.1 | J8: =D24+D60+D89 -> -815586 | K8: =-711007+33918-1300 -> -678389 | L8: =K8-J8 -> 137197 | N8: 242076.7
A9: Повернення податків і зборів, у тому числі: | B9: 3020 | C9: 130 | D9: 397 | E9: 7000 | F9: =D9 -> 397 | G9: =F9-E9 -> -6603 | H9: =F9/E9*100 -> 5.6714286 | I9: =I7+I8 -> 909547.1 | J9: =J7+J8 -> 7296 | K9: =K7+K8 -> 1570 | N9: 0
A10: податку на додану вартість | B10: 3021 | C10: 130 | D10: 397 | E10: 7000 | F10: =D10 -> 397 | G10: =F10-E10 -> -6603 | H10: =F10/E10*100 -> 5.6714286 | N10: 0
A11: Цільове фінансування (розшифрувати) | B11: 3030 | C11: 0,0 | D11: 0,0 | E11: 0,0 | F11: =D11 -> 0,0 | G11: =F11-E11 -> 0 | H11: - | K11: =K9-J9 -> -5726 | N11: 0,0
C12: 0,0 | D12: 0,0 | E12: 0,0 | F12: =D12 -> 0,0 | G12: =F12-E12 -> 0 | H12: =F12/E12*100 -> #DIV/0! | N12: 0,0
C13: 0,0 | D13: 0,0 | E13: 0,0 | F13: =D13 -> 0,0 | G13: =F13-E13 -> 0 | H13: =F13/E13*100 -> #DIV/0! | N13: 0,0
A14: Надходження авансів від покупців і замовників | B14: 3040 | C14: 96478 | D14: 149618 | E14: 0,0 | F14: =D14 -> 149618 | G14: =F14-E14 -> 149618 | H14: - | I14: 597098 | N14: 66154.8
A15: Отримання коштів за короткостроковими зобов'язаннями, у тому числі: | B15: 3050 | C15: =SUM(C16:C18) -> 0 | D15: 25000 | E15: =SUM(E16:E18) -> 45000 | F15: =D15 -> 25000 | G15: =F15-E15 -> -20000 | H15: =F15/E15*100 -> 55.555556 | I15: 600162 | N15: 25000
A16: кредити | B16: 3051 | C16: 0,0 | D16: 25000 | E16: 45000 | F16: =D16 -> 25000 | G16: =F16-E16 -> -20000 | H16: =F16/E16*100 -> 55.555556 | I16: =I14-I15 -> -3064 | N16: 25000
A17: позики | B17: 3052 | C17: 0,0 | D17: 0 | E17: 0 | F17: =D17 -> 0 | G17: =F17-E17 -> 0 | H17: - | N17: 0
A18: облігації | B18: 3053 | C18: 0,0 | D18: 0,0 | E18: 0,0 | F18: =D18 -> 0,0 | G18: =F18-E18 -> 0 | H18: - | I18: =I8+I15 -> 829750.1 | N18: 0,0
A19: Інші надходження (розшифрувати) | B19: 3060 | C19: =SUM(C20:C23) -> 108832 | D19: =SUM(D20:D23) -> 102048 | E19: =SUM(E20:E23) -> 1985 | F19: =D19 -> 102048 | G19: =F19-E19 -> 100063 | H19: =F19/E19*100 -> 5140.9572 | N19: 5687.3
A20: від операційної оренди активів | B20: 3060/1 | C20: 2593.2 | D20: 1487 | E20: 1985 | F20: =D20 -> 1487 | G20: =F20-E20 -> -498 | H20: =F20/E20*100 -> 74.911839 | N20: 1251.7
A21: інше | B21: 3060/2 | C21: 106238.8 | D21: =36+62+100463 -> 100561 | E21: 0,0 | F21: =D21 -> 100561 | G21: =F21-E21 -> 100561 | H21: - | N21: 4435.6
C22: 0,0 | D22: 0,0 | E22: 0,0 | F22: =D22 -> 0,0 | G22: =F22-E22 -> 0 | H22: =F22/E22*100 -> #DIV/0! | N22: 0,0
C23: 0,0 | D23: 0,0 | E23: 0,0 | F23: =D23 -> 0,0 | G23: =F23-E23 -> 0 | H23: =F23/E23*100 -> #DIV/0! | N23: 0,0
A24: Видатки грошових коштів від операційної діяльності | B24: 3100 | C24: =SUM(C25,C26,C27,C31,C47) -> -678389 | D24: =SUM(D25,D26,D27,D31,D47) -> -788722 | E24: =SUM(E25,E26,E27,E31,E47) -> -705860 | F24: =D24 -> -788722 | G24: =F24-E24 -> -82862 | H24: =F24/E24*100 -> 111.73916 | N24: -344391.4
A25: Розрахунки за продукцію (товари, роботи та послуги) | B25: 3110 | C25: -422214 | D25: -503424 | E25: -500095 | F25: =D25 -> -503424 | G25: =F25-E25 -> -3329 | H25: =F25/E25*100 -> 100.66567 | N25: -253892.9
A26: Розрахунки з оплати праці | B26: 3120 | C26: -92618 | D26: -96569 | E26: -78790 | F26: =D26 -> -96569 | G26: =F26-E26 -> -17779 | H26: =F26/E26*100 -> 122.56505 | N26: -40643.2
A27: Повернення коштів за короткостроковими зобов'язаннями, у тому числі: | B27: 3130 | C27: =SUM(C28:C30) -> -1300 | D27: =SUM(D28:D30) -> -28250 | E27: =SUM(E28:E30) -> -49200 | F27: =D27 -> -28250 | G27: =F27-E27 -> 20950 | H27: =F27/E27*100 -> 57.418699 | N27: -4650
A28: кредити | B28: 3131 | C28: 0,0 | D28: -25000 | E28: -45000 | F28: =D28 -> -25000 | G28: =F28-E28 -> 20000 | H28: =F28/E28*100 -> 55.555556 | N28: -2800
A29: позики | B29: 3132 | C29: -1300 | D29: -3250 | E29: -4200 | F29: =D29 -> -3250 | G29: =F29-E29 -> 950 | H29: =F29/E29*100 -> 77.380952 | N29: -1850
A30: облігації | B30: 3133 | C30: 0,0 | D30: 0,0 | E30: 0,0 | F30: =D30 -> 0,0 | G30: =F30-E30 -> 0 | H30: - | N30: 0,0
A31: Зобов’язання з податків, зборів та інших обов’язкових платежів, у тому числі: | B31: 3140 | C31: =SUM(C32:C37,C39) -> -78595 | D31: =SUM(D32:D37,D39) -> -66121 | E31: =SUM(E32:E37,E39) -> -74865 | F31: =D31 -> -66121 | G31: =F31-E31 -> 8744 | H31: =F31/E31*100 -> 88.32031 | N31: -45052.4
A32: податок на прибуток підприємств | B32: 3141 | C32: -3096 | D32: -2705 | E32: -4030 | F32: =D32 -> -2705 | G32: =F32-E32 -> 1325 | H32: =F32/E32*100 -> 67.121588 | N32: -2705.9
A33: податок на додану вартість | B33: 3142 | C33: 0 | D33: 0,0 | E33: 0,0 | F33: =D33 -> 0,0 | G33: =F33-E33 -> 0 | H33: - | N33: 0,0
A34: акцизний податок | B34: 3143 | C34: -112.6 | D34: =-'ІІ. Розр. з бюджетом'!D26 -> -203.7 | E34: 0,0 | F34: =D34 -> -203.7 | G34: =F34-E34 -> -203.7 | H34: - | N34: -43.9
A35: рентна плата | B35: 3144 | C35: 0,0 | D35: 0,0 | E35: 0,0 | F35: =D35 -> 0,0 | G35: =F35-E35 -> 0 | H35: - | N35: 0,0
A36: податок на доходи фізичних осіб | B36: 3145 | C36: -20320.3 | D36: =-'ІІ. Розр. з бюджетом'!D30-'ІІ. Розр. з бюджетом'!D34 -> -22107.4 | E36: -17295 | F36: =D36 -> -22107.4 | G36: =F36-E36 -> -4812.4 | H36: =F36/E36*100 -> 127.82538 | N36: -9216.9
A37: інші обов’язкові платежі, у тому числі: | B37: 3146 | C37: =SUM(C38:C38) -> 0 | D37: =SUM(D38:D38) -> 0 | E37: =SUM(E38:E38) -> 0 | F37: =D37 -> 0 | G37: =F37-E37 -> 0 | H37: - | N37: 0
A38: відрахування частини чистого прибутку державними підприємствами | B38: 3146/1 | C38: 0,0 | D38: 0,0 | E38: 0,0 | F38: =D38 -> 0,0 | G38: =F38-E38 -> 0 | H38: - | N38: 0,0
A39: інші платежі (розшифрувати) | B39: 3150 | C39: =SUM(C40:C45) -> -55066.1 | D39: =SUM(D40:D45) -> -41104.9 | E39: =SUM(E40:E45) -> -53540 | F39: =D39 -> -41104.9 | G39: =F39-E39 -> 12435.1 | H39: =F39/E39*100 -> 76.774188 | N39: -33085.7
A40: військовий збір | B40: 3150/1 | C40: -1743.3 | D40: =-'ІІ. Розр. з бюджетом'!D32 -> -1841.5 | E40: =-'ІІ. Розр. з бюджетом'!E32 -> -1440 | F40: =D40 -> -1841.5 | G40: =F40-E40 -> -401.5 | H40: =F40/E40*100 -> 127.88194 | N40: -767.4
A41: земельний податок | B41: 3150/2 | C41: -7271.4 | D41: =-'ІІ. Розр. з бюджетом'!D35 -> -8071.7 | E41: =-'ІІ. Розр. з бюджетом'!E35 -> -6800 | F41: =D41 -> -8071.7 | G41: =F41-E41 -> -1271.7 | H41: =F41/E41*100 -> 118.70147 | N41: -4011.4
...

Sheet IV. Кап. інвестиції
A1: IV. Капітальні інвестиції
A3: Найменування показника | B3: Код рядка | C3: Факт наростаючим підсумком з початку року | E3: ='Осн. фін. пок.'!E27:H27 -> Звітний період (2017 р.)
C4: минулий рік | D4: поточний рік | E4: план | F4: факт | G4: відхилення, +/– | H4: виконання, %
A5: 1 | B5: 2 | C5: 3 | D5: 4 | E5: 5 | F5: 6 | G5: 7 | H5: 8
A6: Капітальні інвестиції, усього, у тому числі: | B6: 4000 | C6: =SUM(C7:C12) -> 7423 | D6: =SUM(D7:D12) -> 24643 | E6: =SUM(E7:E12) -> 21020 | F6: =D6 -> 24643 | G6: =F6-E6 -> 3623 | H6: =F6/E6*100 -> 117.23597
A7: капітальне будівництво | B7: 4010 | C7: 0,0 | D7: 9433.1 | E7: 5000 | F7: =D7 -> 9433.1 | G7: =F7-E7 -> 4433.1 | H7: 0
A8: придбання (виготовлення) основних засобів | B8: 4020 | C8: 6186 | D8: 13538.9 | E8: 6215 | F8: =D8 -> 13538.9 | G8: =F8-E8 -> 7323.9 | H8: =F8/E8*100 -> 217.84232
A9: придбання (виготовлення) інших необоротних матеріальних активів | B9: 4030 | C9: 0,0 | D9: 0,0 | E9: 0,0 | F9: =D9 -> 0,0 | G9: =F9-E9 -> 0 | H9: 0
A10: придбання (створення) нематеріальних активів | B10: 4040 | C10: 1237 | D10: 176 | E10: 3505 | F10: =D10 -> 176 | G10: =F10-E10 -> -3329 | H10: =F10/E10*100 -> 5.021398
A11: модернізація, модифікація (добудова, дообладнання, реконструкція) основних засобів | B11: 4050 | C11: 0,0 | D11: 0,0 | E11: 5900 | F11: =D11 -> 0,0 | G11: =F11-E11 -> -5900 | H11: 0
A12: капітальний ремонт | B12: 4060 | C12: 0,0 | D12: 1495 | E12: 400 | F12: =D12 -> 1495 | G12: =F12-E12 -> 1095 | H12: 0
A14: Керівник
A15: В.о. голови Правління ПрАТ "УДП" | F15: Н.О. Караджа
A16: (посада) | C16: (підпис) | F16: (ініціали, прізвище)

Sheet  V. Коефіцієнти
A1: V. Коефіцієнтний аналіз
A3: Найменування показника | B3: Код рядка | C3: Оптимальне значення | D3: Факт наростаючим підсумком з початку року | F3: Факт за 2017 р. | H3: Примітки
D4: минулий рік | E4: поточний рік | F4: минулий рік | G4: поточний рік
A5: 1 | B5: 2 | C5: 3 | D5: 4 | E5: 5 | F5: 6 | G5: 7 | H5: 8
A6: Коефіцієнти рентабельності та прибутковості
A7: Валова рентабельність (валовий прибуток, рядок 1020 / чистий дохід від реалізації продукції (товарів, робіт, послуг), рядок 1000) х 100, % | B7: 5000 | C7: Збільшення | D7: ='Осн. фін. пок.'!C33/'Осн. фін. пок.'!C31*100 -> 13.267306 | E7: ='Осн. фін. пок.'!D33/'Осн. фін. пок.'!D31*100 -> 4.6105193 | F7: =D7 -> 13.267306 | G7: ='Осн. фін. пок.'!F33/'Осн. фін. пок.'!F31*100 -> 4.6105193
A8: Рентабельність EBITDA (EBITDA, рядок 1310 / чистий дохід від реалізації продукції (товарів, робіт, послуг), рядок 1000) х 100, % | B8: 5010 | C8: Збільшення | D8: ='I. Формування фін. рез.'!C114/'I. Формування фін. рез.'!C7*100 -> 3.574337 | E8: ='I. Формування фін. рез.'!D114/'I. Формування фін. рез.'!D7*100 -> -1.9559306 | F8: =D8 -> 3.574337 | G8: ='I. Формування фін. рез.'!F114/'I. Формування фін. рез.'!F7*100 -> -1.9559306
A9: Рентабельність активів (чистий фінансовий результат, рядок 1200 / вартість активів, рядок 6020) х 100, % | B9: 5020 | C9: Збільшення | D9: ='Осн. фін. пок.'!C63/'Осн. фін. пок.'!C139*100 -> 11.154396 | E9: ='Осн. фін. пок.'!D63/'Осн. фін. пок.'!D139*100 -> 0.43397827 | F9: =D9 -> 11.154396 | G9: ='I. Формування фін. рез.'!D101/'Осн. фін. пок.'!D139*100 -> 0.43397827 | H9: Характеризує ефективність використання активів підприємства
A10: Рентабельність власного капіталу (чистий фінансовий результат, рядок 1200 / власний капітал, рядок 6080) х 100, % | B10: 5030 | C10: Збільшення | D10: ='Осн. фін. пок.'!C63/'Осн. фін. пок.'!C145*100 -> 18.040479 | E10: ='Осн. фін. пок.'!D63/'Осн. фін. пок.'!D145*100 -> 0.98216509 | F10: =D10 -> 18.040479 | G10: ='Осн. фін. пок.'!F63/'Осн. фін. пок.'!D145*100 -> 0.98216509
A11: Рентабельність діяльності (чистий фінансовий результат, рядок 1200 / чистий дохід від реалізації продукції (товарів, робіт, послуг), рядок 1000) х 100, % | B11: 5040 | C11: Збільшення | D11: ='Осн. фін. пок.'!C63/'Осн. фін. пок.'!C31*100 -> 4.6760005 | E11: ='Осн. фін. пок.'!D63/'Осн. фін. пок.'!D31*100 -> 0.19192359 | F11: =D11 -> 4.6760005 | G11: ='Осн. фін. пок.'!F63/'Осн. фін. пок.'!F31*100 -> 0.19192359 | H11: Характеризує ефективність господарської діяльності підприємства
A12: Коефіцієнти фінансової стійкості та ліквідності
A13: Коефіцієнт відношення боргу до EBITDA (довгострокові зобов'язання, рядок 6030 + поточні зобов'язання, рядок 6040) / EBITDA, рядок 1310 | B13: 5100 | D13: =('Осн. фін. пок.'!C140+'Осн. фін. пок.'!C141)/'I. Формування фін. рез.'!C114 -> 4.4766923 | E13: =('Осн. фін. пок.'!D140+'Осн. фін. пок.'!D141)/'I. Формування фін. рез.'!D114 -> -12.619758 | F13: =D13 -> 4.4766923 | G13: =('Осн. фін. пок.'!D140+'Осн. фін. пок.'!D141)/'I. Формування фін. рез.'!F114 -> -12.619758
A14: Коефіцієнт фінансової стійкості (власний капітал, рядок 6080 / (довгострокові зобов'язання, рядок 6030 + поточні зобов'язання, рядок 6040)) | B14: 5110 | C14: > 1 | D14: ='Осн. фін. пок.'!C145/('Осн. фін. пок.'!C140+'Осн. фін. пок.'!C141) -> 1.619846 | E14: ='Осн. фін. пок.'!D145/('Осн. фін. пок.'!D140+'Осн. фін. пок.'!D141) -> 0.79166126 | F14: =D14 -> 1.619846 | G14: ='Осн. фін. пок.'!D145/('Осн. фін. пок.'!D140+'Осн. фін. пок.'!D141) -> 0.79166126 | H14: Характеризує співвідношення власних та позикових коштів і залежність підприємства від зовнішніх фінансових джерел
A15: Коефіцієнт поточної ліквідності (покриття) (оборотні активи, рядок 6010 / поточні зобов'язання, рядок 6040) | B15: 5120 | C15: > 1 | D15: ='Осн. фін. пок.'!C137/'Осн. фін. пок.'!C141 -> 1.6085359 | E15: ='Осн. фін. пок.'!D137/'Осн. фін. пок.'!D141 -> 1.1806306 | F15: =D15 -> 1.6085359 | G15: ='Осн. фін. пок.'!D137/'Осн. фін. пок.'!D141 -> 1.1806306 | H15: Показує достатність ресурсів підприємства, які може бути використано для погашення його поточних зобов'язань. Нормативним значенням для цього показника є > 1–1,5
A16: Аналіз капітальних інвестицій
A17: Коефіцієнт відношення капітальних інвестицій до амортизації (капітальні інвестиції, рядок 4000 / амортизація, рядок 1430) | B17: 5200 | D17: ='Осн. фін. пок.'!C114/'Осн. фін. пок.'!C75 -> 0.58265306 | E17: ='Осн. фін. пок.'!D114/'Осн. фін. пок.'!D75 -> 1.6340428 | F17: =D17 -> 0.58265306 | G17: ='Осн. фін. пок.'!F114/'Осн. фін. пок.'!F75 -> 1.6340428
A18: Коефіцієнт відношення капітальних інвестицій до чистого доходу від реалізації продукції (товарів, робіт, послуг) (капітальні інвестиції, рядок 4000 / чистий дохід від реалізації продукції (товарів, робіт, послуг), рядок 1000) | B18: 5210 | D18: ='Осн. фін. пок.'!C121/'Осн. фін. пок.'!C31 -> 0.01154497 | E18: ='Осн. фін. пок.'!D121/'Осн. фін. пок.'!D31 -> 0.031551521 | F18: =D18 -> 0.01154497 | G18: ='Осн. фін. пок.'!F121/'Осн. фін. пок.'!F31 -> 0.031551521
A19: Коефіцієнт зносу основних засобів (сума зносу, рядок 6003 / первісна вартість основних засобів, рядок 6002) | B19: 5220 | C19: Зменшення | D19: ='Осн. фін. пок.'!C136/'Осн. фін. пок.'!C135 -> 0.91908158 | E19: ='Осн. фін. пок.'!D136/'Осн. фін. пок.'!D135 -> 0.90966404 | F19: =D19 -> 0.91908158 | G19: ='Осн. фін. пок.'!D136/'Осн. фін. пок.'!D135 -> 0.90966404 | H19: Характеризує інвестиційну політику підприємства
A20: Ковенанти/обмежувальні коефіцієнти
A21: Інші коефіцієнти/ковенанти, якщо такі передбачені умовами кредитних договорів, із зазначенням банку, валюти та суми зобов'язання на дату останньої звітності, строку погашення. У графі "Оптимальне значення" вказати граничне значення коефіцієнта | B21: 5300 | D21: 0,0 | E21: 0,0 | F21: 0,0 | G21: 0,0
A23: Керівник
A24: В.о. голови Правління ПрАТ "УДП" | F24: Н.О. Караджа
A25: (посада) | C25: (підпис) | F25: (ініціали, прізвище)

Sheet Iнформація до ФП
A1: Інформація
A2: до фінансового плану за 2017 р.
A3: ПрАТ "УДП"
A4: (найменування підприємства)
A5: 1. Дані про підприємство, персонал та фонд заробітної плати
A7: Загальна інформація про підприємство (резюме)
A8: ПрАТ “Українське Дунайське пароплавство” із 100% пакетом акцій, що належать державі в особі Міністерства інфраструктури України (державна корпоративна власність), безпосередньо підпорядковано Департаменту морського та річкового транспорту. Українське Дунайське пароплавство було створено в 1944 році під назвою “Радянське Дунайське державне пароплавство” з місцезнаходженням у м. Ізмаїлі та у 1994 р. було перетворено у відкрите акціонерне товариство. Основними видами діяльності ПрАТ “УДП” є: внутрішні та міжнародні перевезення пасажирів та вантажів морським і річковим транспортом; суднобудування та судноремонт. На кінець 2017 року на балансі ПрАТ “УДП” знаходилось 428 суден.
A10: Найменування показника | F10: Факт відповідного періоду минулого року | H10: План звітного періоду | J10: Факт звітного періоду | L10: Відхилення, +/– (Факт звітного періоду / План звітного періоду) | N10: Виконання, % (Факт звітного періоду / План звітного періоду)
A11: 1 | F11: 2 | H11: 3 | J11: 4 | L11: 5 | N11: 6
A12: Середня кількість працівників (штатних працівників, зовнішніх сумісників та працівників, що працюють за цивільно-правовими договорами), у тому числі: | F12: =SUM(F13:G15) -> 1891 | H12: =SUM(H13:I15) -> 1571 | J12: =SUM(J13:K15) -> 1677 | L12: =J12-H12 -> 106 | N12: =J12/H12*100 -> 106.74729
A13: директор | F13: 1 | H13: 1 | J13: 1 | L13: =J13-H13 -> 0 | N13: =J13/H13*100 -> 100
A14: адміністративно-управлінський персонал | F14: 192 | H14: 199 | J14: 208 | L14: =J14-H14 -> 9 | N14: =J14/H14*100 -> 104.52261
A15: працівники | F15: 1698 | H15: 1371 | J15: 1468 | L15: =J15-H15 -> 97 | N15: =J15/H15*100 -> 107.07513
A16: Фонд оплати праці, тис. грн, у тому числі: | F16: =SUM(F17:G19) -> 96096.3 | H16: =SUM(H17:I19) -> 96085 | J16: =SUM(J17:K19) -> 105949.1 | L16: =J16-H16 -> 9864.1 | N16: =J16/H16*100 -> 110.26601
A17: директор | F17: 430 | H17: 560 | J17: 485.2 | L17: =J17-H17 -> -74.8 | N17: =J17/H17*100 -> 86.642857
A18: адміністративно-управлінський персонал | F18: 22358.9 | H18: 23480 | J18: 24397.9 | L18: =J18-H18 -> 917.9 | N18: =J18/H18*100 -> 103.90928
A19: працівники | F19: 73307.4 | H19: 72045 | J19: 81066 | L19: =J19-H19 -> 9021 | N19: =J19/H19*100 -> 112.52134
A20: Витрати на оплату праці, тис. грн, у тому числі: | F20: =SUM(F21:G23) -> 101105.9 | H20: =SUM(H21:I23) -> 96085 | J20: =SUM(J21:K23) -> 115120 | L20: =J20-H20 -> 19035 | N20: =J20/H20*100 -> 119.81058
A21: директор | F21: 430 | H21: 560 | J21: 485.2 | L21: =J21-H21 -> -74.8 | N21: =J21/H21*100 -> 86.642857
A22: адміністративно-управлінський персонал | F22: 22358.9 | H22: 23480 | J22: 24397.9 | L22: =J22-H22 -> 917.9 | N22: =J22/H22*100 -> 103.90928
A23: працівники | F23: 78317 | H23: 72045 | J23: 90236.9 | L23: =J23-H23 -> 18191.9 | N23: =J23/H23*100 -> 125.25075
A24: Середньомісячні витрати на оплату праці одного працівника (грн), усього, у тому числі: | F24: =F20/F12/12*1000 -> 4455.5747 | H24: =H20/H12/12*1000 -> 5096.8067 | J24: =J20/J12/12*1000 -> 5720.5327 | L24: =J24-H24 -> 623.72599 | N24: =J24/H24*100 -> 112.23758
A25: директор | F25: =F21/F13/12*1000 -> 35833.333 | H25: =H21/H13/12*1000 -> 46666.667 | J25: =J21/J13/12*1000 -> 40433.333 | L25: =J25-H25 -> -6233.3333 | N25: =J25/H25*100 -> 86.642857
A26: адміністративно-управлінський персонал | F26: =F22/F14/12*1000 -> 9704.3837 | H26: =H22/H14/12*1000 -> 9832.4958 | J26: =J22/J14/12*1000 -> 9774.7997 | L26: =J26-H26 -> -57.696133 | N26: =J26/H26*100 -> 99.41321
A27: працівники | F27: =F23/F15/12*1000 -> 3843.5905 | H27: =H23/H15/12*1000 -> 4379.1028 | J27: =J23/J15/12*1000 -> 5122.4398 | L27: =J27-H27 -> 743.33698 | N27: =J27/H27*100 -> 116.97464
A29: У разі збільшення витрат на оплату праці в плановому році порівняно з установленим рівнем поточного року та фактом попереднього року надаються обґрунтування.
A30: Обґрунтування збільшення витрат на оплату праці в поточному році порівняно з установленим рівнем та фактом попереднього року надаються в пояснювальній записці про фінансово-господарську діяльність ПрАТ “УДП” за 2017 рік
A32: 2. Перелік підприємств, які включені до консолідованого (зведеного) фінансового плану
A33: Код за ЄДРПОУ | B33: Найменування підприємства | F33: Вид діяльності
A34: 1 | B34: 2 | F34: 3
A38: 3. Інформація про бізнес підприємства (код рядка 1000 фінансового плану)
A40: Найменування видів діяльності за КВЕД | D40: План | G40: Факт | J40: Відхилення, +/– | M40: Виконання, % | O40: Зміна ціни одиниці (вартості продукції/ наданих послуг)
D41: чистий дохід від реалізації продукції (товарів, робіт, послуг), тис. гривень | E41: кількість продукції/ наданих послуг, одиниця виміру | F41: ціна одиниці (вартість продукції/ наданих послуг), гривень | G41: чистий дохід від реалізації продукції (товарів, робіт, послуг), тис. гривень | H41: кількість продукції/ наданих послуг, одиниця виміру | I41: ціна одиниці (вартість продукції/ наданих послуг), гривень | J41: чистий дохід від реалізації продукції (товарів, робіт, послуг), тис. гривень | K41: кількість продукції/ наданих послуг, одиниця виміру | L41: ціна одиниці (вартість продукції/ наданих послуг), гривень | M41: чистий дохід від реалізації продукції (товарів, робіт, послуг) | N41: кількість продукції/ наданих послуг
A42: 1 | D42: 2 | E42: 3 | F42: 4 | G42: 5 | H42: 6 | I42: 7 | J42: 8 | K42: 9 | L42: 10 | M42: 11 | N42: 12 | O42: 13
A43: Дiяльнiсть морського вантажного транспорту | D43: 27205 | E43: 390 | F43: - | G43: 16382 | H43: 304.6 | I43: - | J43: =G43-D43 -> -10823 | K43: =H43-E43 -> -85.4 | L43: - | M43: =G43/D43*100 -> 60.216872 | N43: =H43/E43*100 -> 78.102564 | O43: -
A44: Дiяльнiсть вантажного рiчкового транспорту | D44: 480310 | E44: 1150 | F44: - | G44: 501325 | H44: 1091.9 | I44: - | J44: =G44-D44 -> 21015 | K44: =H44-E44 -> -58.1 | L44: - | M44: =G44/D44*100 -> 104.3753 | N44: =H44/E44*100 -> 94.947826 | O44: -
A45: Дiяльнiсть пасажирського рiчкового транспорту | D45: 107305 | E45: 10 | F45: - | G45: 168057 | H45: 15 | I45: - | J45: =G45-D45 -> 60752 | K45: =H45-E45 -> 5 | L45: - | M45: - | N45: - | O45: -
A46: Будування та ремонт суден | D46: 26700 | E46: - | F46: - | G46: 46491.3 | H46: 59 од. | I46: - | J46: =G46-D46 -> 19791.3 | L46: - | M46: =G46/D46*100 -> 174.12472 | N46: - | O46: -
A47: Інші | D47: 35050 | E47: - | F47: - | G47: 48784.7 | H47: - | I47: - | J47: =G47-D47 -> 13734.7 | L47: - | M47: =G47/D47*100 -> 139.18602 | N47: - | O47: -
A48: Усього | D48: =SUM(D43:D47) -> 676570 | E48: - | F48: - | G48: =SUM(G43:G47) -> 781040 | H48: - | I48: - | J48: =SUM(J43:J47) -> 104470 | K48: - | L48: - | M48: =G48/D48*100 -> 115.44112 | N48: - | O48: -
...

Sheet Продовження інф. до ФП
B2: 6. Витрати, пов'язані з використанням власних службових автомобілів (у складі адміністративних витрат, рядок 1031)
A4: № з/п | B4: Марка | C4: Рік придбання | G4: Мета використання | P4: Витрати, усього | Z4: Відхилення, +/– (факт звітного періоду / план звітного періоду) | AC4: Виконання, % (факт звітного періоду / план звітного періоду)
P5: факт відповідного періоду минулого року | T5: план звітного періоду | W5: факт звітного періоду
A6: 1 | B6: 2 | C6: 3 | G6: 4 | P6: 5 | T6: 6 | W6: 7 | Z6: 8 | AC6: 9
A7: 1 | B7: Volvo 960 6670 СО | C7: 1998 | G7: Службові перевезення | P7: 78.2 | T7: 40.2 | W7: 62.3 | Z7: =W7-T7 -> 22.1 | AC7: =W7/T7 -> 1.5497512
A8: 2 | B8: VW Passat 3436 ЕВ | C8: 1998 | G8: Службові перевезення | P8: 131.4 | T8: 68.7 | W8: 98.3 | Z8: =W8-T8 -> 29.6 | AC8: =W8/T8 -> 1.4308588
A9: 3 | B9: Audi A6 8441 СК | C9: 1999 | G9: Службові перевезення | P9: 163.7 | T9: 83.8 | W9: 163.8 | Z9: =W9-T9 -> 80 | AC9: =W9/T9 -> 1.9546539
A10: 4 | B10: LandCruiser 4171 АО | C10: 2003 | G10: Службові перевезення | P10: 384.5 | T10: 307.1 | W10: 100.7 | Z10: =W10-T10 -> -206.4 | AC10: =W10/T10 -> 0.32790622
A11: 5 | B11: VW Caravella 4632 СІ | C11: 1998 | G11: Мікроавтобус, службові перевезення | P11: 41.9 | T11: 63.7 | W11: 49.3 | Z11: =W11-T11 -> -14.4 | AC11: =W11/T11 -> 0.77394035
A12: 6 | B12: ГАЗель 3221 6850 СМ | C12: 1998 | G12: Мікроавтобус, службові перевезення | P12: 34 | T12: 47.8 | W12: 9 | Z12: =W12-T12 -> -38.8 | AC12: =W12/T12 -> 0.18828452
A13: 7 | B13: Hyundai Sonata 6681 СК | C13: 2006 | G13: Службові перевезення | P13: 158 | T13: 110.3 | W13: 135.8 | Z13: =W13-T13 -> 25.5 | AC13: =W13/T13 -> 1.2311877
A14: 8 | B14: Hyundai Sonata 6682 СК | C14: 2006 | G14: Службові перевезення | P14: 50.6 | T14: 31.8 | W14: 94.5 | Z14: =W14-T14 -> 62.7 | AC14: =W14/T14 -> 2.9716981
A15: 9 | B15: VW Caravella 0689 СР | C15: 1998 | G15: Службові перевезення | P15: 96.2 | T15: 90.2 | W15: 54.2 | Z15: =W15-T15 -> -36 | AC15: =W15/T15 -> 0.60088692
A16: 10 | B16: BMW 316 7856 СА | C16: 1997 | G16: Службові перевезення | P16: 53 | T16: 52.4 | W16: 14.8 | Z16: =W16-T16 -> -37.6 | AC16: =W16/T16 -> 0.28244275
A17: 11 | B17: VW Passat 3452 ЕВ | C17: 1994 | G17: Службові перевезення | P17: 8.1 | T17: 16.1 | W17: 36.1 | Z17: =W17-T17 -> 20 | AC17: =W17/T17 -> 2.242236
A18: 13 | B18: Mercedes 6690 СМ | C18: 1998 | G18: Мікроавтобус, службові перевезення | P18: 18.6 | T18: 31 | W18: 23.2 | Z18: =W18-T18 -> -7.8 | AC18: =W18/T18 -> 0.7483871
... A20: 15 | B20: Toyota Prado 2626 СО | C20: 2003 | G20: Службові перевезення | P20: 243.3 | T20: 188.1 | W20: 230.1 | Z20: =W20-T20 -> 42 | AC20: =W20/T20 -> 1.2232855
A21: 16 | B21: Daewoo Espero 2963 ЕЕ | C21: 1998 | G21: Службові перевезення | P21: 0 | T21: 14.3 | W21: 0,0 | Z21: =W21-T21 -> -14.3 | AC21: =W21/T21 -> 0
A22: 17 | B22: Toyota 5200ЕН | G22: Службові перевезення | P22: 0 | T22: 59.3 | W22: 0 | Z22: =W22-T22 -> -59.3 | AC22: =W22/T22 -> 0
A23: 18 | B23: "Mitsubishi Pajero", Mercedes E200 7509 ВЕ, VW | G23: Службові перевезення (КСБСРЗ) | P23: 139.6 | T23: 80 | W23: 218.7 | Z23: =W23-T23 -> 138.7 | AC23: =W23/T23 -> 2.73375
A24: 19 | B24: Газель 4696 ВН | G24: Службові перевезення | P24: 25.4 | T24: 42.6 | W24: 30.3 | Z24: =W24-T24 -> -12.3 | AC24: =W24/T24 -> 0.71126761
A25: 20 | B25: Mitsubishi Pajero 5200 СО | G25: Службові перевезення | P25: 83.1 | T25: 44.7 | W25: 3.1 | Z25: =W25-T25 -> -41.6 | AC25: =W25/T25 -> 0.06935123
A26: 21 | B26: Daewoo 4963 ВН | G26: Службові перевезення | P26: 48 | T26: 0,0 | W26: 27.5 | Z26: =W26-T26 -> 27.5 | AC26: -
A27: 22 | B27: Toyota Prado 2655 СО | G27: Службові перевезення | P27: 0 | T27: 0 | W27: 22.6 | Z27: =W27-T27 -> 22.6 | AC27: -
A28: 23 | B28: Toyota 6330 АА | G28: Службові перевезення | P28: 0 | T28: 0 | W28: 10.9 | Z28: =W28-T28 -> 10.9 | AC28: -
A29: 24 | B29: VW 2687 АА | G29: Службові перевезення | P29: 0 | T29: 0 | W29: 9.3 | Z29: =W29-T29 -> 9.3 | AC29: -
A30: 25 | B30: Daewoo 435-93 ОА | G30: Службові перевезення | P30: 0 | T30: 0 | W30: 42.7 | Z30: =W30-T30 -> 42.7 | AC30: -
A31: 26 | B31: Інші | G31: Службові перевезення | P31: =2.8+0.5 -> 3.3 | T31: 0 | W31: 4 | Z31: =W31-T31 -> 4 | AC31: -
A32: Усього | P32: =SUM(P7:S31) -> 1817.2 | T32: =SUM(T7:V31) -> 1420 | W32: =SUM(W7:Y31) -> 1480.6 | Z32: =W32-T32 -> 60.6 | AC32: =W32/T32 -> 1.0426761
B34: 7. Витрати на оренду службових автомобілів (у складі адміністративних витрат, рядок 1032)
A36: № з/п | B36: Договір | C36: Марка | G36: Мета використання | Q36: Дата початку оренди | V36: Витрати, усього | AB36: Відхилення, +/– (факт звітного періоду / план звітного періоду) | AD36: Виконання, % (факт звітного періоду / план звітного періоду)
V37: факт відповідного періоду минулого року | X37: план звітного періоду | Z37: факт звітного періоду
A38: 1 | B38: 2 | C38: 3 | G38: 4 | Q38: 5 | V38: 6 | X38: 7 | Z38: 8 | AB38: 9 | AD38: 10
A39: 1 | V39: 0 | X39: 0,0 | Z39: 0,0 | AB39: 0,0 | AD39: 0,0
V40: 0,0 | X40: 0,0 | Z40: 0,0 | AB40: 0,0 | AD40: 0,0
A41: Усього | V41: 0,0 | X41: 0,0 | Z41: 0,0 | AB41: 0,0 | AD41: 0,0
B44: 8. Джерела капітальних інвестицій
AC45: тис. гривень (без ПДВ)
A46: № з/п | B46: Найменування об’єкта | L46: Залучення кредитних коштів | P46: Бюджетне фінансування | T46: Власні кошти (розшифрувати) | X46: Інші джерела (розшифрувати) | AB46: Усього
L47: план | M47: факт | N47: відхилення, +/– | O47: виконання, % | P47: план | Q47: факт | R47: відхилення, +/– | S47: виконання, % | T47: план | U47: факт | V47: відхилення, +/– | W47: виконання, % | X47: план | Y47: факт | Z47: відхилення, +/– | AA47: виконання, % | AB47: план | AC47: факт | AD47: відхилення, +/– | AE47: виконання, %
...
